BEGIN:VCALENDAR
VERSION:2.0
PRODID:-//W4OVH - ECPv6.15.20//NONSGML v1.0//EN
CALSCALE:GREGORIAN
METHOD:PUBLISH
X-WR-CALNAME:W4OVH
X-ORIGINAL-URL:https://w4ovh.net
X-WR-CALDESC:Events for W4OVH
REFRESH-INTERVAL;VALUE=DURATION:PT1H
X-Robots-Tag:noindex
X-PUBLISHED-TTL:PT1H
BEGIN:VTIMEZONE
TZID:America/New_York
BEGIN:DAYLIGHT
TZOFFSETFROM:-0500
TZOFFSETTO:-0400
TZNAME:EDT
DTSTART:20250309T070000
END:DAYLIGHT
BEGIN:STANDARD
TZOFFSETFROM:-0400
TZOFFSETTO:-0500
TZNAME:EST
DTSTART:20251102T060000
END:STANDARD
BEGIN:DAYLIGHT
TZOFFSETFROM:-0500
TZOFFSETTO:-0400
TZNAME:EDT
DTSTART:20260308T070000
END:DAYLIGHT
BEGIN:STANDARD
TZOFFSETFROM:-0400
TZOFFSETTO:-0500
TZNAME:EST
DTSTART:20261101T060000
END:STANDARD
BEGIN:DAYLIGHT
TZOFFSETFROM:-0500
TZOFFSETTO:-0400
TZNAME:EDT
DTSTART:20270314T070000
END:DAYLIGHT
BEGIN:STANDARD
TZOFFSETFROM:-0400
TZOFFSETTO:-0500
TZNAME:EST
DTSTART:20271107T060000
END:STANDARD
END:VTIMEZONE
BEGIN:VEVENT
DTSTART;TZID=America/New_York:20260425T080000
DTEND;TZID=America/New_York:20260425T120000
DTSTAMP:20260420T095707
CREATED:20260420T010542Z
LAST-MODIFIED:20260420T010542Z
UID:10000887-1777104000-1777118400@w4ovh.net
SUMMARY:W1CRO ESTATE SALE
DESCRIPTION:Regretfully\,  Art W1CRO  has passed.   His widow Hajia is selling his equipment which had accumulated over his lifetime. \nThere is a lot of stuff.   Click the link for the pictures  https://www.k4gvt.com/w1cro/index.html \nThe sale is on Saturday April 25 at 8:30 am to noon at 12212 Woodlark Ct\, Manassas. \n  \n 
URL:https://w4ovh.net/event/w1cro-estate-sale/
LOCATION:W1CRO HOUSE\, 12212 Woodlark Ct\, Manassas\, VA\, United States
ORGANIZER;CN="W4OVH%3A George Tarnovsky":MAILTO:george@k4gvt.com
END:VEVENT
END:VCALENDAR