BEGIN:VCALENDAR
VERSION:2.0
PRODID:-//W4OVH - ECPv6.15.20//NONSGML v1.0//EN
CALSCALE:GREGORIAN
METHOD:PUBLISH
X-WR-CALNAME:W4OVH
X-ORIGINAL-URL:https://w4ovh.net
X-WR-CALDESC:Events for W4OVH
REFRESH-INTERVAL;VALUE=DURATION:PT1H
X-Robots-Tag:noindex
X-PUBLISHED-TTL:PT1H
BEGIN:VTIMEZONE
TZID:America/New_York
BEGIN:DAYLIGHT
TZOFFSETFROM:-0500
TZOFFSETTO:-0400
TZNAME:EDT
DTSTART:20170312T070000
END:DAYLIGHT
BEGIN:STANDARD
TZOFFSETFROM:-0400
TZOFFSETTO:-0500
TZNAME:EST
DTSTART:20171105T060000
END:STANDARD
BEGIN:DAYLIGHT
TZOFFSETFROM:-0500
TZOFFSETTO:-0400
TZNAME:EDT
DTSTART:20180311T070000
END:DAYLIGHT
BEGIN:STANDARD
TZOFFSETFROM:-0400
TZOFFSETTO:-0500
TZNAME:EST
DTSTART:20181104T060000
END:STANDARD
BEGIN:DAYLIGHT
TZOFFSETFROM:-0500
TZOFFSETTO:-0400
TZNAME:EDT
DTSTART:20190310T070000
END:DAYLIGHT
BEGIN:STANDARD
TZOFFSETFROM:-0400
TZOFFSETTO:-0500
TZNAME:EST
DTSTART:20191103T060000
END:STANDARD
END:VTIMEZONE
BEGIN:VEVENT
DTSTART;TZID=America/New_York:20181115T190000
DTEND;TZID=America/New_York:20181115T200000
DTSTAMP:20260419T095849
CREATED:20180909T062229Z
LAST-MODIFIED:20180909T063356Z
UID:10000626-1542308400-1542312000@w4ovh.net
SUMMARY:W4OVH Technician Class
DESCRIPTION:Become a Ham Radio Operator\nGet Your Technician Class License Online!\nInstructed by Mark Braunstein\, WA4KFZ.  For please click on the PDF below:\nFall 2018 Tech Class
URL:https://w4ovh.net/event/w4ovh-technician-class/2018-11-15/
LOCATION:Online
CATEGORIES:License Class
ORGANIZER;CN="W4OVH %3A Mark Braunstein":MAILTO:wa4kfz@cox.net
END:VEVENT
BEGIN:VEVENT
DTSTART;TZID=America/New_York:20181108T190000
DTEND;TZID=America/New_York:20181108T200000
DTSTAMP:20260419T095849
CREATED:20180909T062229Z
LAST-MODIFIED:20180909T063356Z
UID:10000625-1541703600-1541707200@w4ovh.net
SUMMARY:W4OVH Technician Class
DESCRIPTION:Become a Ham Radio Operator\nGet Your Technician Class License Online!\nInstructed by Mark Braunstein\, WA4KFZ.  For please click on the PDF below:\nFall 2018 Tech Class
URL:https://w4ovh.net/event/w4ovh-technician-class/2018-11-08/
LOCATION:Online
CATEGORIES:License Class
ORGANIZER;CN="W4OVH %3A Mark Braunstein":MAILTO:wa4kfz@cox.net
END:VEVENT
BEGIN:VEVENT
DTSTART;TZID=America/New_York:20181101T190000
DTEND;TZID=America/New_York:20181101T200000
DTSTAMP:20260419T095849
CREATED:20180909T062229Z
LAST-MODIFIED:20180909T063356Z
UID:10000624-1541098800-1541102400@w4ovh.net
SUMMARY:W4OVH Technician Class
DESCRIPTION:Become a Ham Radio Operator\nGet Your Technician Class License Online!\nInstructed by Mark Braunstein\, WA4KFZ.  For please click on the PDF below:\nFall 2018 Tech Class
URL:https://w4ovh.net/event/w4ovh-technician-class/2018-11-01/
LOCATION:Online
CATEGORIES:License Class
ORGANIZER;CN="W4OVH %3A Mark Braunstein":MAILTO:wa4kfz@cox.net
END:VEVENT
BEGIN:VEVENT
DTSTART;TZID=America/New_York:20181025T190000
DTEND;TZID=America/New_York:20181025T200000
DTSTAMP:20260419T095849
CREATED:20180909T062229Z
LAST-MODIFIED:20180909T063356Z
UID:10000623-1540494000-1540497600@w4ovh.net
SUMMARY:W4OVH Technician Class
DESCRIPTION:Become a Ham Radio Operator\nGet Your Technician Class License Online!\nInstructed by Mark Braunstein\, WA4KFZ.  For please click on the PDF below:\nFall 2018 Tech Class
URL:https://w4ovh.net/event/w4ovh-technician-class/2018-10-25/
LOCATION:Online
CATEGORIES:License Class
ORGANIZER;CN="W4OVH %3A Mark Braunstein":MAILTO:wa4kfz@cox.net
END:VEVENT
BEGIN:VEVENT
DTSTART;TZID=America/New_York:20181018T190000
DTEND;TZID=America/New_York:20181018T200000
DTSTAMP:20260419T095849
CREATED:20180909T062229Z
LAST-MODIFIED:20180909T063356Z
UID:10000622-1539889200-1539892800@w4ovh.net
SUMMARY:W4OVH Technician Class
DESCRIPTION:Become a Ham Radio Operator\nGet Your Technician Class License Online!\nInstructed by Mark Braunstein\, WA4KFZ.  For please click on the PDF below:\nFall 2018 Tech Class
URL:https://w4ovh.net/event/w4ovh-technician-class/2018-10-18/
LOCATION:Online
CATEGORIES:License Class
ORGANIZER;CN="W4OVH %3A Mark Braunstein":MAILTO:wa4kfz@cox.net
END:VEVENT
BEGIN:VEVENT
DTSTART;TZID=America/New_York:20181011T190000
DTEND;TZID=America/New_York:20181011T200000
DTSTAMP:20260419T095849
CREATED:20180909T062229Z
LAST-MODIFIED:20180909T063356Z
UID:10000621-1539284400-1539288000@w4ovh.net
SUMMARY:W4OVH Technician Class
DESCRIPTION:Become a Ham Radio Operator\nGet Your Technician Class License Online!\nInstructed by Mark Braunstein\, WA4KFZ.  For please click on the PDF below:\nFall 2018 Tech Class
URL:https://w4ovh.net/event/w4ovh-technician-class/2018-10-11/
LOCATION:Online
CATEGORIES:License Class
ORGANIZER;CN="W4OVH %3A Mark Braunstein":MAILTO:wa4kfz@cox.net
END:VEVENT
BEGIN:VEVENT
DTSTART;TZID=America/New_York:20181004T190000
DTEND;TZID=America/New_York:20181004T200000
DTSTAMP:20260419T095849
CREATED:20180909T062229Z
LAST-MODIFIED:20180909T063356Z
UID:10000620-1538679600-1538683200@w4ovh.net
SUMMARY:W4OVH Technician Class
DESCRIPTION:Become a Ham Radio Operator\nGet Your Technician Class License Online!\nInstructed by Mark Braunstein\, WA4KFZ.  For please click on the PDF below:\nFall 2018 Tech Class
URL:https://w4ovh.net/event/w4ovh-technician-class/2018-10-04/
LOCATION:Online
CATEGORIES:License Class
ORGANIZER;CN="W4OVH %3A Mark Braunstein":MAILTO:wa4kfz@cox.net
END:VEVENT
BEGIN:VEVENT
DTSTART;TZID=America/New_York:20180927T190000
DTEND;TZID=America/New_York:20180927T200000
DTSTAMP:20260419T095849
CREATED:20180909T062229Z
LAST-MODIFIED:20180909T063356Z
UID:10000619-1538074800-1538078400@w4ovh.net
SUMMARY:W4OVH Technician Class
DESCRIPTION:Become a Ham Radio Operator\nGet Your Technician Class License Online!\nInstructed by Mark Braunstein\, WA4KFZ.  For please click on the PDF below:\nFall 2018 Tech Class
URL:https://w4ovh.net/event/w4ovh-technician-class/2018-09-27/
LOCATION:Online
CATEGORIES:License Class
ORGANIZER;CN="W4OVH %3A Mark Braunstein":MAILTO:wa4kfz@cox.net
END:VEVENT
END:VCALENDAR